BEGIN:VCALENDAR
VERSION:2.0
PRODID:-//SpielFilmMusik - ECPv6.15.12.2//NONSGML v1.0//EN
CALSCALE:GREGORIAN
METHOD:PUBLISH
X-WR-CALNAME:SpielFilmMusik
X-ORIGINAL-URL:https://spielfilmmusik.de
X-WR-CALDESC:Veranstaltungen für SpielFilmMusik
REFRESH-INTERVAL;VALUE=DURATION:PT1H
X-Robots-Tag:noindex
X-PUBLISHED-TTL:PT1H
BEGIN:VTIMEZONE
TZID:Europe/Berlin
BEGIN:DAYLIGHT
TZOFFSETFROM:+0100
TZOFFSETTO:+0200
TZNAME:CEST
DTSTART:20250330T010000
END:DAYLIGHT
BEGIN:STANDARD
TZOFFSETFROM:+0200
TZOFFSETTO:+0100
TZNAME:CET
DTSTART:20251026T010000
END:STANDARD
BEGIN:DAYLIGHT
TZOFFSETFROM:+0100
TZOFFSETTO:+0200
TZNAME:CEST
DTSTART:20260329T010000
END:DAYLIGHT
BEGIN:STANDARD
TZOFFSETFROM:+0200
TZOFFSETTO:+0100
TZNAME:CET
DTSTART:20261025T010000
END:STANDARD
BEGIN:DAYLIGHT
TZOFFSETFROM:+0100
TZOFFSETTO:+0200
TZNAME:CEST
DTSTART:20270328T010000
END:DAYLIGHT
BEGIN:STANDARD
TZOFFSETFROM:+0200
TZOFFSETTO:+0100
TZNAME:CET
DTSTART:20271031T010000
END:STANDARD
END:VTIMEZONE
BEGIN:VEVENT
DTSTART;TZID=Europe/Berlin:20260422T173000
DTEND;TZID=Europe/Berlin:20260422T213000
DTSTAMP:20260422T013952
CREATED:20260418T082854Z
LAST-MODIFIED:20260418T082854Z
UID:11828-1776879000-1776893400@spielfilmmusik.de
SUMMARY:Bluthelden
DESCRIPTION:Tournament
URL:https://spielfilmmusik.de/event/bluthelden-2/
CATEGORIES:Bluthelden
END:VEVENT
BEGIN:VEVENT
DTSTART;TZID=Europe/Berlin:20260422T180000
DTEND;TZID=Europe/Berlin:20260422T213000
DTSTAMP:20260422T013952
CREATED:20260418T083053Z
LAST-MODIFIED:20260418T083053Z
UID:11831-1776880800-1776893400@spielfilmmusik.de
SUMMARY:Magic Commander
DESCRIPTION:Commander
URL:https://spielfilmmusik.de/event/magic-commander-157/
CATEGORIES:Magic
END:VEVENT
END:VCALENDAR